BEGIN:VCALENDAR
VERSION:2.0
PRODID:-//www.asteraz.org//NONSGML kigkonsult.se iCalcreator 2.30.10//
CALSCALE:GREGORIAN
METHOD:PUBLISH
UID:1fe21f04-be73-42a5-aae3-813cfc01b11e
X-WR-CALDESC:Learn gentle movement and focused breathing exercises.
X-WR-RELCALID:a0e145a75729975ac6a47e5b31ababad
X-WR-TIMEZONE:America/Denver
BEGIN:VTIMEZONE
TZID:America/Denver
BEGIN:STANDARD
TZNAME:MST
DTSTART:20301103T020000
TZOFFSETFROM:-0600
TZOFFSETTO:-0700
RDATE:20311102T020000
RDATE:20321107T020000
END:STANDARD
BEGIN:DAYLIGHT
TZNAME:MDT
DTSTART:20310309T020000
TZOFFSETFROM:-0700
TZOFFSETTO:-0600
RDATE:20320314T020000
END:DAYLIGHT
END:VTIMEZONE
BEGIN:VEVENT
UID:edebf972-7ab0-424a-bac1-6a82dea8bdce
DTSTAMP:20260425T105509Z
DESCRIPTION:Learn gentle movement and focused breathing exercises.
DTSTART;TZID=America/Denver:20310801T094500
DTEND;TZID=America/Denver:20310801T104500
LOCATION:Mesa Downtown
SUMMARY:DT Qigong
END:VEVENT
END:VCALENDAR
