BEGIN:VCALENDAR
VERSION:2.0
PRODID:-//www.asteraz.org//NONSGML kigkonsult.se iCalcreator 2.30.10//
CALSCALE:GREGORIAN
METHOD:PUBLISH
UID:e10460a9-c7dd-4cd4-81e1-e44e9ae21ee1
X-WR-CALDESC:Join your fellow artists and hobbyists as you have fun drawing
  portraits from live models. Capacity is limited. The class costs $5/perso
 n.
X-WR-RELCALID:262c5067cb2081983cf5e6e3604e13d3
X-WR-TIMEZONE:America/Denver
BEGIN:VTIMEZONE
TZID:America/Denver
BEGIN:STANDARD
TZNAME:MST
DTSTART:20301103T020000
TZOFFSETFROM:-0600
TZOFFSETTO:-0700
RDATE:20311102T020000
RDATE:20321107T020000
END:STANDARD
BEGIN:DAYLIGHT
TZNAME:MDT
DTSTART:20310309T020000
TZOFFSETFROM:-0700
TZOFFSETTO:-0600
RDATE:20320314T020000
END:DAYLIGHT
END:VTIMEZONE
BEGIN:VEVENT
UID:04cc24c7-e87d-4b20-9e42-46f8628e667d
DTSTAMP:20260425T105727Z
DESCRIPTION:Join your fellow artists and hobbyists as you have fun drawing 
 portraits from live models. Capacity is limited. The class costs $5/person
 .
DTSTART;TZID=America/Denver:20310801T083000
DTEND;TZID=America/Denver:20310801T123000
LOCATION:7550 East Adobe Street\, Mesa\, AZ 85207 US
SUMMARY:Portrait Painting Workshop
END:VEVENT
END:VCALENDAR
