BEGIN:VCALENDAR
VERSION:2.0
PRODID:-//www.asteraz.org//NONSGML kigkonsult.se iCalcreator 2.30.10//
CALSCALE:GREGORIAN
METHOD:PUBLISH
UID:80589c65-9e62-4a08-a1d6-a5b4793e52a7
X-WR-CALDESC:Pinochle\, also called pinocle or penuchle\, is a trick-taking
  ace–ten card game. It's a whole lot of fun\, and we'd love if you joined 
 us every Tuesday and Thursday for our games at the Mesa Downtown Senior Ce
 nter!
X-WR-RELCALID:538c0acbff4be472b53d3559f752c084
X-WR-TIMEZONE:America/Denver
BEGIN:VTIMEZONE
TZID:America/Denver
BEGIN:STANDARD
TZNAME:MST
DTSTART:20301103T020000
TZOFFSETFROM:-0600
TZOFFSETTO:-0700
RDATE:20311102T020000
RDATE:20321107T020000
END:STANDARD
BEGIN:DAYLIGHT
TZNAME:MDT
DTSTART:20310309T020000
TZOFFSETFROM:-0700
TZOFFSETTO:-0600
RDATE:20320314T020000
END:DAYLIGHT
END:VTIMEZONE
BEGIN:VEVENT
UID:dfda9a06-3ee6-4997-8da9-c521c4edbd8c
DTSTAMP:20260423T134904Z
DESCRIPTION:Pinochle\, also called pinocle or penuchle\, is a trick-taking 
 ace–ten card game. It's a whole lot of fun\, and we'd love if you joined u
 s every Tuesday and Thursday for our games at the Mesa Downtown Senior Cen
 ter!
DTSTART;TZID=America/Denver:20310729T123000
DTEND;TZID=America/Denver:20310729T150000
LOCATION:247 N. Macdonald Street\, Mesa\, AZ 85201 US
SUMMARY:Pinochle
END:VEVENT
END:VCALENDAR
