BEGIN:VCALENDAR
VERSION:2.0
PRODID:-//www.asteraz.org//NONSGML kigkonsult.se iCalcreator 2.30.10//
CALSCALE:GREGORIAN
METHOD:PUBLISH
UID:7971724d-213f-498a-b287-94e90775c4b8
X-WR-CALDESC:Come celebrate and remember our loved ones - honor those who s
 erved in the military.
X-WR-RELCALID:5c352c817caa102f0dc959047e332977
X-WR-TIMEZONE:America/Denver
BEGIN:VTIMEZONE
TZID:America/Denver
BEGIN:STANDARD
TZNAME:MST
DTSTART:20251102T020000
TZOFFSETFROM:-0600
TZOFFSETTO:-0700
RDATE:20261101T020000
RDATE:20271107T020000
END:STANDARD
BEGIN:DAYLIGHT
TZNAME:MDT
DTSTART:20260308T020000
TZOFFSETFROM:-0700
TZOFFSETTO:-0600
RDATE:20270314T020000
END:DAYLIGHT
END:VTIMEZONE
BEGIN:VEVENT
UID:30ece5ca-28ca-46aa-abaf-78b90522a107
DTSTAMP:20260423T225315Z
DESCRIPTION:Come celebrate and remember our loved ones - honor those who se
 rved in the military.
DTSTART;TZID=America/Denver:20260522T090000
DTEND;TZID=America/Denver:20260522T103000
LOCATION:247 N. Macdonald Street\, Mesa\, AZ 85201 US
SUMMARY:Memorial Day Celebration
END:VEVENT
END:VCALENDAR
