BEGIN:VCALENDAR
VERSION:2.0
PRODID:-//www.asteraz.org//NONSGML kigkonsult.se iCalcreator 2.30.10//
CALSCALE:GREGORIAN
METHOD:PUBLISH
UID:ddc8eb33-9497-45db-8578-620a2dea320c
X-WR-CALDESC:Join us for a discussion of women’s history. We will discuss t
 he achievements of women across time\, as well as their contributions in s
 cience\, culture\, and more.
X-WR-RELCALID:e32ab18020de50b997e557ce82fa91c0
X-WR-TIMEZONE:America/Denver
BEGIN:VTIMEZONE
TZID:America/Denver
BEGIN:STANDARD
TZNAME:MST
DTSTART:20251102T020000
TZOFFSETFROM:-0600
TZOFFSETTO:-0700
RDATE:20261101T020000
RDATE:20271107T020000
END:STANDARD
BEGIN:DAYLIGHT
TZNAME:MDT
DTSTART:20260308T020000
TZOFFSETFROM:-0700
TZOFFSETTO:-0600
RDATE:20270314T020000
END:DAYLIGHT
END:VTIMEZONE
BEGIN:VEVENT
UID:60427b00-2ec6-4dde-a99f-c4eed3695775
DTSTAMP:20260423T225204Z
DESCRIPTION:Join us for a discussion of women’s history. We will discuss th
 e achievements of women across time\, as well as their contributions in sc
 ience\, culture\, and more.
DTSTART;TZID=America/Denver:20260519T093000
DTEND;TZID=America/Denver:20260519T103000
LOCATION:7550 East Adobe Street\, Mesa\, AZ 85207 US
SUMMARY:Discussion: Women's History
END:VEVENT
END:VCALENDAR
