BEGIN:VCALENDAR
VERSION:2.0
PRODID:-//www.asteraz.org//NONSGML kigkonsult.se iCalcreator 2.30.10//
CALSCALE:GREGORIAN
METHOD:PUBLISH
UID:7f4a1b83-8f4a-4aff-9b45-132b343d6cde
X-WR-CALDESC:Keeping Pets and People Safe: The Role of Animal Control\, pre
 sented by Diana Ibarra and Cindy Arvayo of Mesa Animal Control\, will shar
 e how animal control helps keep pets and people safe\, what they do in the
  community\, and what residents should know about common situations.
X-WR-RELCALID:f9b6c039b777fc4ed75ea98081ff9db2
X-WR-TIMEZONE:America/Denver
BEGIN:VTIMEZONE
TZID:America/Denver
BEGIN:STANDARD
TZNAME:MST
DTSTART:20251102T020000
TZOFFSETFROM:-0600
TZOFFSETTO:-0700
RDATE:20261101T020000
RDATE:20271107T020000
END:STANDARD
BEGIN:DAYLIGHT
TZNAME:MDT
DTSTART:20260308T020000
TZOFFSETFROM:-0700
TZOFFSETTO:-0600
RDATE:20270314T020000
END:DAYLIGHT
END:VTIMEZONE
BEGIN:VEVENT
UID:e3682f6e-849f-40b6-aa0e-29b1b4931969
DTSTAMP:20260423T230157Z
DESCRIPTION:Keeping Pets and People Safe: The Role of Animal Control\, pres
 ented by Diana Ibarra and Cindy Arvayo of Mesa Animal Control\, will share
  how animal control helps keep pets and people safe\, what they do in the 
 community\, and what residents should know about common situations.
DTSTART;TZID=America/Denver:20260514T123000
DTEND;TZID=America/Denver:20260514T133000
LOCATION:247 N. Macdonald Street\, Mesa\, AZ 85201 US
SUMMARY:Keeping Pets and People Safe: The Role of Animal Control | Presente
 d by Diana Ibarra and Cindy Arvayo of Mesa Animal Control
END:VEVENT
END:VCALENDAR
