BEGIN:VCALENDAR
VERSION:2.0
PRODID:-//www.asteraz.org//NONSGML kigkonsult.se iCalcreator 2.30.10//
CALSCALE:GREGORIAN
METHOD:PUBLISH
UID:4535b6b4-b863-4b19-bebe-8aa2d01ff640
X-WR-CALDESC:Join us to celebrate the birthdays of those born in May at the
  Senior Center - there will be cake!
X-WR-RELCALID:5a2d6e753a2d436c4aaaa2914ceabcda
X-WR-TIMEZONE:America/Denver
BEGIN:VTIMEZONE
TZID:America/Denver
BEGIN:STANDARD
TZNAME:MST
DTSTART:20251102T020000
TZOFFSETFROM:-0600
TZOFFSETTO:-0700
RDATE:20261101T020000
RDATE:20271107T020000
END:STANDARD
BEGIN:DAYLIGHT
TZNAME:MDT
DTSTART:20260308T020000
TZOFFSETFROM:-0700
TZOFFSETTO:-0600
RDATE:20270314T020000
END:DAYLIGHT
END:VTIMEZONE
BEGIN:VEVENT
UID:2096a369-7242-47f5-ab2e-fbacdbac90a8
DTSTAMP:20260424T144903Z
DESCRIPTION:Join us to celebrate the birthdays of those born in May at the 
 Senior Center - there will be cake!
DTSTART;TZID=America/Denver:20260513T113000
DTEND;TZID=America/Denver:20260513T130000
LOCATION:7550 East Adobe Street\, Mesa\, AZ 85207 US
SUMMARY:May Birthday Party
END:VEVENT
END:VCALENDAR
