BEGIN:VCALENDAR
VERSION:2.0
PRODID:-//www.asteraz.org//NONSGML kigkonsult.se iCalcreator 2.30.10//
CALSCALE:GREGORIAN
METHOD:PUBLISH
UID:cedada5a-e46f-435f-bb79-f20e46d3ab37
X-WR-CALDESC:Learn about Paratransit\, Buzz\, Dial-a-ride\, and other optio
 ns so that you can navigate this system with confidence.
X-WR-RELCALID:f65bc51c60b404ca7ce5605d4b77ebc1
X-WR-TIMEZONE:America/Denver
BEGIN:VTIMEZONE
TZID:America/Denver
BEGIN:STANDARD
TZNAME:MST
DTSTART:20251102T020000
TZOFFSETFROM:-0600
TZOFFSETTO:-0700
RDATE:20261101T020000
RDATE:20271107T020000
END:STANDARD
BEGIN:DAYLIGHT
TZNAME:MDT
DTSTART:20260308T020000
TZOFFSETFROM:-0700
TZOFFSETTO:-0600
RDATE:20270314T020000
END:DAYLIGHT
END:VTIMEZONE
BEGIN:VEVENT
UID:edc4f735-65be-493e-b4c4-6e527401ab7a
DTSTAMP:20260423T230542Z
DESCRIPTION:Learn about Paratransit\, Buzz\, Dial-a-ride\, and other option
 s so that you can navigate this system with confidence.
DTSTART;TZID=America/Denver:20260508T093000
DTEND;TZID=America/Denver:20260508T110000
LOCATION:247 N. Macdonald Street\, Mesa\, AZ 85201 US
SUMMARY:Valley Metro Presentation
END:VEVENT
END:VCALENDAR
