BEGIN:VCALENDAR
VERSION:2.0
PRODID:-//www.asteraz.org//NONSGML kigkonsult.se iCalcreator 2.30.10//
CALSCALE:GREGORIAN
METHOD:PUBLISH
UID:0ddd213a-240d-4bb1-ab58-024550819dba
X-WR-CALDESC:Honor mothers with us at the Red Mountain Senior Center. There
  will be a special dessert\, a remembrance wall\, and a flower for all mot
 hers at lunch.
X-WR-RELCALID:d0475896e3f15ecba82b67918d2a6907
X-WR-TIMEZONE:America/Denver
BEGIN:VTIMEZONE
TZID:America/Denver
BEGIN:STANDARD
TZNAME:MST
DTSTART:20251102T020000
TZOFFSETFROM:-0600
TZOFFSETTO:-0700
RDATE:20261101T020000
RDATE:20271107T020000
END:STANDARD
BEGIN:DAYLIGHT
TZNAME:MDT
DTSTART:20260308T020000
TZOFFSETFROM:-0700
TZOFFSETTO:-0600
RDATE:20270314T020000
END:DAYLIGHT
END:VTIMEZONE
BEGIN:VEVENT
UID:e6d671e8-02bd-49a0-b5a7-2589de515b18
DTSTAMP:20260423T225732Z
DESCRIPTION:Honor mothers with us at the Red Mountain Senior Center. There 
 will be a special dessert\, a remembrance wall\, and a flower for all moth
 ers at lunch.
DTSTART;TZID=America/Denver:20260508T130000
DTEND;TZID=America/Denver:20260508T153000
LOCATION:7550 East Adobe Street\, Mesa\, AZ 85207 US
SUMMARY:Mother's Day
END:VEVENT
END:VCALENDAR
