BEGIN:VCALENDAR
VERSION:2.0
PRODID:-//www.asteraz.org//NONSGML kigkonsult.se iCalcreator 2.30.10//
CALSCALE:GREGORIAN
METHOD:PUBLISH
UID:e714f415-102f-4c31-888e-bda0211d8b3b
X-WR-CALDESC:Join us for a celebration of Cinco De Mayo - there will be mus
 ic\, activities\, and more!
X-WR-RELCALID:bd17eea29d1b514799046b8e9b1575cc
X-WR-TIMEZONE:America/Denver
BEGIN:VTIMEZONE
TZID:America/Denver
BEGIN:STANDARD
TZNAME:MST
DTSTART:20251102T020000
TZOFFSETFROM:-0600
TZOFFSETTO:-0700
RDATE:20261101T020000
END:STANDARD
BEGIN:DAYLIGHT
TZNAME:MDT
DTSTART:20260308T020000
TZOFFSETFROM:-0700
TZOFFSETTO:-0600
RDATE:20270314T020000
END:DAYLIGHT
END:VTIMEZONE
BEGIN:VEVENT
UID:dbcaaa44-c469-4a9a-973b-2dfc0721b0f6
DTSTAMP:20260423T230333Z
DESCRIPTION:Join us for a celebration of Cinco De Mayo - there will be musi
 c\, activities\, and more!
DTSTART;TZID=America/Denver:20260505T100000
DTEND;TZID=America/Denver:20260505T113000
LOCATION:247 N. Macdonald Street\, Mesa\, AZ 85201 US
SUMMARY:Cinco De Mayo
END:VEVENT
END:VCALENDAR
