BEGIN:VCALENDAR
VERSION:2.0
PRODID:-//www.asteraz.org//NONSGML kigkonsult.se iCalcreator 2.30.10//
CALSCALE:GREGORIAN
METHOD:PUBLISH
UID:3268aa02-8e1d-4266-bee2-82cd0dac4cd6
X-WR-CALDESC:Join us each first Friday of the month to share in the love of
  reading!
X-WR-RELCALID:2d554d09bbd1f3d52f3293968e10edff
X-WR-TIMEZONE:America/Denver
BEGIN:VTIMEZONE
TZID:America/Denver
BEGIN:STANDARD
TZNAME:MST
DTSTART:20251102T020000
TZOFFSETFROM:-0600
TZOFFSETTO:-0700
RDATE:20261101T020000
END:STANDARD
BEGIN:DAYLIGHT
TZNAME:MDT
DTSTART:20260308T020000
TZOFFSETFROM:-0700
TZOFFSETTO:-0600
RDATE:20270314T020000
END:DAYLIGHT
END:VTIMEZONE
BEGIN:VEVENT
UID:67b1f850-2a74-4117-9b59-f12933690543
DTSTAMP:20260425T115229Z
DESCRIPTION:Join us each first Friday of the month to share in the love of 
 reading!
DTSTART;TZID=America/Denver:20260501T100000
DTEND;TZID=America/Denver:20260501T110000
LOCATION:7550 East Adobe Street\, Mesa\, AZ 85207 US
SUMMARY:First Friday Book Club
END:VEVENT
END:VCALENDAR
