BEGIN:VCALENDAR
VERSION:2.0
PRODID:-//www.asteraz.org//NONSGML kigkonsult.se iCalcreator 2.30.10//
CALSCALE:GREGORIAN
METHOD:PUBLISH
UID:b1bbc7b3-c0e8-4b13-a02e-2fe7ff7ca881
X-WR-CALDESC:Join us to learn about bereavement and how to develop healthy 
 coping skills to deal with your loss. The group will provide support and h
 ope. Capacity is limited.\n\nFacilitated by EMPACT.
X-WR-RELCALID:40e64e8dd358824f61cb1e43852a46e5
X-WR-TIMEZONE:America/Denver
BEGIN:VTIMEZONE
TZID:America/Denver
BEGIN:STANDARD
TZNAME:MST
DTSTART:20251102T020000
TZOFFSETFROM:-0600
TZOFFSETTO:-0700
RDATE:20261101T020000
END:STANDARD
BEGIN:DAYLIGHT
TZNAME:MDT
DTSTART:20260308T020000
TZOFFSETFROM:-0700
TZOFFSETTO:-0600
RDATE:20270314T020000
END:DAYLIGHT
END:VTIMEZONE
BEGIN:VEVENT
UID:849d95e2-f4f6-405d-bac9-979a0e76f866
DTSTAMP:20260425T105008Z
DESCRIPTION:Join us to learn about bereavement and how to develop healthy c
 oping skills to deal with your loss. The group will provide support and ho
 pe. Capacity is limited.\n\nFacilitated by EMPACT.
DTSTART;TZID=America/Denver:20260429T130000
DTEND;TZID=America/Denver:20260429T140000
LOCATION:Mesa Downtown Senior Center
SUMMARY:DT Grief & Loss Support
END:VEVENT
END:VCALENDAR
