BEGIN:VCALENDAR
VERSION:2.0
PRODID:-//www.asteraz.org//NONSGML kigkonsult.se iCalcreator 2.30.10//
CALSCALE:GREGORIAN
METHOD:PUBLISH
UID:121d1c08-8371-4c1d-948a-fe7dd4b3be8a
X-WR-CALDESC:Join us every Wednesday afternoon to play card and board games
 . Which games? You'll have to join us to find out!
X-WR-RELCALID:9830dbf9d58422c799815a7f857303ac
X-WR-TIMEZONE:America/Denver
BEGIN:VTIMEZONE
TZID:America/Denver
BEGIN:STANDARD
TZNAME:MST
DTSTART:20251102T020000
TZOFFSETFROM:-0600
TZOFFSETTO:-0700
RDATE:20261101T020000
END:STANDARD
BEGIN:DAYLIGHT
TZNAME:MDT
DTSTART:20260308T020000
TZOFFSETFROM:-0700
TZOFFSETTO:-0600
RDATE:20270314T020000
END:DAYLIGHT
END:VTIMEZONE
BEGIN:VEVENT
UID:a787a503-da51-46f2-be86-3092b39469da
DTSTAMP:20260425T105008Z
DESCRIPTION:Join us every Wednesday afternoon to play card and board games.
  Which games? You'll have to join us to find out!
DTSTART;TZID=America/Denver:20260429T123000
DTEND;TZID=America/Denver:20260429T150000
LOCATION:7550 East Adobe Street\, Mesa\, AZ 85207 US
SUMMARY:Whatever Games We Play
END:VEVENT
END:VCALENDAR
