BEGIN:VCALENDAR
VERSION:2.0
PRODID:-//www.asteraz.org//NONSGML kigkonsult.se iCalcreator 2.30.10//
CALSCALE:GREGORIAN
METHOD:PUBLISH
UID:f235c544-1d96-4c6c-89c1-7ca7978e8edc
X-WR-CALDESC:Join Aster's Downtown Mesa Senior Center every Wednesday and p
 lay Bingo for fun. RSVP to the Center in advance\, as spots are limited.
X-WR-RELCALID:a21823a628b79950f3129805bf0257a3
X-WR-TIMEZONE:America/Denver
BEGIN:VTIMEZONE
TZID:America/Denver
BEGIN:STANDARD
TZNAME:MST
DTSTART:20251102T020000
TZOFFSETFROM:-0600
TZOFFSETTO:-0700
RDATE:20261101T020000
END:STANDARD
BEGIN:DAYLIGHT
TZNAME:MDT
DTSTART:20260308T020000
TZOFFSETFROM:-0700
TZOFFSETTO:-0600
RDATE:20270314T020000
END:DAYLIGHT
END:VTIMEZONE
BEGIN:VEVENT
UID:51fbe8c4-3416-4b7b-8971-3b87c4739ef5
DTSTAMP:20260425T104254Z
DESCRIPTION:Join Aster's Downtown Mesa Senior Center every Wednesday and pl
 ay Bingo for fun. RSVP to the Center in advance\, as spots are limited.
DTSTART;TZID=America/Denver:20260429T123000
DTEND;TZID=America/Denver:20260429T150000
LOCATION:247 N. Macdonald Street\, Mesa\, AZ 85201 US
SUMMARY:Bingo! For Fun
END:VEVENT
END:VCALENDAR
