BEGIN:VCALENDAR
VERSION:2.0
PRODID:-//www.asteraz.org//NONSGML kigkonsult.se iCalcreator 2.30.10//
CALSCALE:GREGORIAN
METHOD:PUBLISH
UID:cdd8d1db-1e03-4b85-a06f-9687bdd41955
X-WR-CALDESC:Join us every Monday and Thursday at the Red Mountain Senior C
 enter for Diamond Art! Diamond Art is a relaxing artform that allows you t
 o make beautiful pictures\, dot by dot.
X-WR-RELCALID:a28502227575608c07faf07ad254f727
X-WR-TIMEZONE:America/Denver
BEGIN:VTIMEZONE
TZID:America/Denver
BEGIN:STANDARD
TZNAME:MST
DTSTART:20251102T020000
TZOFFSETFROM:-0600
TZOFFSETTO:-0700
RDATE:20261101T020000
END:STANDARD
BEGIN:DAYLIGHT
TZNAME:MDT
DTSTART:20260308T020000
TZOFFSETFROM:-0700
TZOFFSETTO:-0600
RDATE:20270314T020000
END:DAYLIGHT
END:VTIMEZONE
BEGIN:VEVENT
UID:13a83a51-dc31-4e8a-a971-57fe82abe26b
DTSTAMP:20260424T101656Z
DESCRIPTION:Join us every Monday and Thursday at the Red Mountain Senior Ce
 nter for Diamond Art! Diamond Art is a relaxing artform that allows you to
  make beautiful pictures\, dot by dot.
DTSTART;TZID=America/Denver:20260423T123000
DTEND;TZID=America/Denver:20260423T150000
LOCATION:7550 East Adobe Street\, Mesa\, AZ 85207 US
SUMMARY:Diamond Art
END:VEVENT
END:VCALENDAR
