BEGIN:VCALENDAR
VERSION:2.0
PRODID:-//www.asteraz.org//NONSGML kigkonsult.se iCalcreator 2.30.10//
CALSCALE:GREGORIAN
METHOD:PUBLISH
UID:026f7abd-720a-4cc0-ab60-cf3c31a3935a
X-WR-CALDESC:Join us at Mesa Downtown every Thursday for Open Art Studio! Y
 ou will be in great company with a group of other artists who come and pai
 nt together\, sharing their work and experience. No experience needed! \n
 \nBring your own supplies.
X-WR-RELCALID:929529a8d93a11a1c2504f2b431f7b24
X-WR-TIMEZONE:America/Denver
BEGIN:VTIMEZONE
TZID:America/Denver
BEGIN:STANDARD
TZNAME:MST
DTSTART:20251102T020000
TZOFFSETFROM:-0600
TZOFFSETTO:-0700
RDATE:20261101T020000
END:STANDARD
BEGIN:DAYLIGHT
TZNAME:MDT
DTSTART:20260308T020000
TZOFFSETFROM:-0700
TZOFFSETTO:-0600
RDATE:20270314T020000
END:DAYLIGHT
END:VTIMEZONE
BEGIN:VEVENT
UID:c8860f70-f9c3-4745-a269-3e24026eabb4
DTSTAMP:20260424T102155Z
DESCRIPTION:Join us at Mesa Downtown every Thursday for Open Art Studio! Yo
 u will be in great company with a group of other artists who come and pain
 t together\, sharing their work and experience. No experience needed! \n\n
 Bring your own supplies.
DTSTART;TZID=America/Denver:20260423T080000
DTEND;TZID=America/Denver:20260423T133000
LOCATION:247 N. Macdonald Street\, Mesa\, AZ 85201 US
SUMMARY:Open Art Studio @ Mesa Downtown
END:VEVENT
END:VCALENDAR
