BEGIN:VCALENDAR
VERSION:2.0
PRODID:-//www.asteraz.org//NONSGML kigkonsult.se iCalcreator 2.30.10//
CALSCALE:GREGORIAN
METHOD:PUBLISH
UID:f5992c6a-82c1-47d7-ad7d-a4bf7f1dd455
X-WR-CALDESC:Have a heart for Valentine’s and join us at the Aster Mesa Dow
 ntown Senior Center for a Golden Age Glamour Gala!\n\nNo date? No problem!
  We’ve got a dance\, a red carpet\, a Photo Booth\, and Golden Age costume
 s like boas\, pearls\, and feathers to make the event fun for everyone!\n
 \nWhere: Aster Mesa Downtown Senior Center -\n247 N. Macdonald Street\, Me
 sa\, 85201\n\nCost: FREE to adults 60+\n\nWhen: Wednesday\, February 11\, 
 2026\n\nTime: 1:00 - 3:00 pm\n\nRSVP by Feb. 6: cbs@asteraz.org or 480-962
 -5612 or online
X-WR-RELCALID:12e73dda8cf95c73d70d2e205041d0fd
X-WR-TIMEZONE:America/Denver
BEGIN:VTIMEZONE
TZID:America/Denver
BEGIN:STANDARD
TZNAME:MST
DTSTART:20251102T020000
TZOFFSETFROM:-0600
TZOFFSETTO:-0700
RDATE:20261101T020000
END:STANDARD
BEGIN:DAYLIGHT
TZNAME:MDT
DTSTART:20250309T020000
TZOFFSETFROM:-0700
TZOFFSETTO:-0600
RDATE:20260308T020000
RDATE:20270314T020000
END:DAYLIGHT
END:VTIMEZONE
BEGIN:VEVENT
UID:7f8677ad-1dc9-4c3c-8df4-d192a33cf05c
DTSTAMP:20260422T155839Z
DESCRIPTION:Have a heart for Valentine’s and join us at the Aster Mesa Down
 town Senior Center for a Golden Age Glamour Gala!\n\nNo date? No problem! 
 We’ve got a dance\, a red carpet\, a Photo Booth\, and Golden Age costumes
  like boas\, pearls\, and feathers to make the event fun for everyone!\n\n
 Where: Aster Mesa Downtown Senior Center -\n247 N. Macdonald Street\, Mesa
 \, 85201\n\nCost: FREE to adults 60+\n\nWhen: Wednesday\, February 11\, 20
 26\n\nTime: 1:00 - 3:00 pm\n\nRSVP by Feb. 6: cbs@asteraz.org or 480-962-5
 612 or online
DTSTART;TZID=America/Denver:20260211T130000
DTEND;TZID=America/Denver:20260211T150000
LOCATION:247 N. Macdonald Street\, Mesa\, AZ 85201 US
SUMMARY:2026 Aster Glamour Gala
END:VEVENT
END:VCALENDAR
