BEGIN:VCALENDAR
VERSION:2.0
PRODID:-//www.asteraz.org//NONSGML kigkonsult.se iCalcreator 2.30.10//
CALSCALE:GREGORIAN
METHOD:PUBLISH
UID:b52d3d70-2ccd-4874-8db9-4adf264a55ce
X-WR-CALDESC:SAVE THE DATE:\n\nAster’s popular Spring Healthy Living Expos 
 are back this March!\n-Free event\n-Prizes\n-Giveaways\n\nLearn about the 
 community options available to you in Health\, Housing\, and more at this 
 exciting and informative event.\n\nAster Healthy Living Expo at Mesa Downt
 own\nFriday\, March 28\, 2025 | 8:00 am - 11:30 am\n247 N. Macdonald Stree
 t Mesa\, AZ 85201
X-WR-RELCALID:284af1d5192da70d59f7b377bbcdccb9
X-WR-TIMEZONE:America/Denver
BEGIN:VTIMEZONE
TZID:America/Denver
BEGIN:STANDARD
TZNAME:MST
DTSTART:20241103T020000
TZOFFSETFROM:-0600
TZOFFSETTO:-0700
RDATE:20251102T020000
END:STANDARD
BEGIN:DAYLIGHT
TZNAME:MDT
DTSTART:20250309T020000
TZOFFSETFROM:-0700
TZOFFSETTO:-0600
RDATE:20260308T020000
END:DAYLIGHT
END:VTIMEZONE
BEGIN:VEVENT
UID:cea06fc0-274f-446c-941a-8bf6dfcc4169
DTSTAMP:20260424T235644Z
DESCRIPTION:SAVE THE DATE:\n\nAster’s popular Spring Healthy Living Expos a
 re back this March!\n-Free event\n-Prizes\n-Giveaways\n\nLearn about the c
 ommunity options available to you in Health\, Housing\, and more at this e
 xciting and informative event.\n\nAster Healthy Living Expo at Mesa Downto
 wn\nFriday\, March 28\, 2025 | 8:00 am - 11:30 am\n247 N. Macdonald Street
  Mesa\, AZ 85201
DTSTART;TZID=America/Denver:20250328T080000
DTEND;TZID=America/Denver:20250328T113000
LOCATION:247 N. Macdonald Street\, Mesa\, AZ 85201 US
SUMMARY:Mesa Downtown 2025 Spring Healthy Living Expo
END:VEVENT
END:VCALENDAR
