BEGIN:VCALENDAR
VERSION:2.0
PRODID:-//www.asteraz.org//NONSGML kigkonsult.se iCalcreator 2.30.10//
CALSCALE:GREGORIAN
METHOD:PUBLISH
UID:8b597af1-5fc3-4175-bc24-5a9a5f7aa24c
X-WR-CALDESC:Join us every day from 10:00 am to 3:00 pm for an exciting gam
 e of billiards at Mesa's Downtown Senior Center. Our pool tables just got 
 resurfaced\, and they're as good as new.
X-WR-RELCALID:5cad0d9fe39a126849dc06806d27d246
X-WR-TIMEZONE:America/Denver
BEGIN:VTIMEZONE
TZID:America/Denver
BEGIN:STANDARD
TZNAME:MST
DTSTART:20241103T020000
TZOFFSETFROM:-0600
TZOFFSETTO:-0700
RDATE:20251102T020000
END:STANDARD
BEGIN:DAYLIGHT
TZNAME:MDT
DTSTART:20250309T020000
TZOFFSETFROM:-0700
TZOFFSETTO:-0600
RDATE:20260308T020000
END:DAYLIGHT
END:VTIMEZONE
BEGIN:VEVENT
UID:8d17632a-493e-497e-8bbe-1a549d4a696e
DTSTAMP:20260423T082340Z
DESCRIPTION:Join us every day from 10:00 am to 3:00 pm for an exciting game
  of billiards at Mesa's Downtown Senior Center. Our pool tables just got r
 esurfaced\, and they're as good as new.
DTSTART;TZID=America/Denver:20250313T100000
DTEND;TZID=America/Denver:20250313T150000
LOCATION:247 N. Macdonald Street\, Mesa\, AZ 85201 US
SUMMARY:Billiards at the Mesa Downtown Senior Center
END:VEVENT
END:VCALENDAR
