BEGIN:VCALENDAR
VERSION:2.0
PRODID:-//www.asteraz.org//NONSGML kigkonsult.se iCalcreator 2.30.10//
CALSCALE:GREGORIAN
METHOD:PUBLISH
UID:05b9a6ff-cef9-4973-a5b0-e08bb881ec8b
X-WR-CALDESC:Have a heart for Valentine’s and join us at the Aster Mesa Dow
 ntown Senior Center for a Golden Age Glamour Gala! \n\nNo date? No problem
 ! We’ve got a dance\, a red carpet\, a Photo Booth\, and Golden Age costum
 es like boas\, pearls\, and feathers to make the event fun for everyone! 
 \n\nWhere: Aster Mesa Downtown Senior Center - 247 N. Macdonald Street\, M
 esa\, 85201\nCost: FREE to adults 60+\nWhen: Wednesday\, February 12\, 202
 5 \nTime: 1:00 - 4:00 pm\nRSVP by Feb. 7: info@asteraz.org or 480-964-9014
X-WR-RELCALID:82c65cebe4516ef25d745994c1bbf78c
X-WR-TIMEZONE:America/Denver
BEGIN:VTIMEZONE
TZID:America/Denver
BEGIN:STANDARD
TZNAME:MST
DTSTART:20241103T020000
TZOFFSETFROM:-0600
TZOFFSETTO:-0700
RDATE:20251102T020000
END:STANDARD
BEGIN:DAYLIGHT
TZNAME:MDT
DTSTART:20240310T020000
TZOFFSETFROM:-0700
TZOFFSETTO:-0600
RDATE:20250309T020000
RDATE:20260308T020000
END:DAYLIGHT
END:VTIMEZONE
BEGIN:VEVENT
UID:18719435-62a5-4123-b210-1dc8443ff531
DTSTAMP:20260425T001556Z
DESCRIPTION:Have a heart for Valentine’s and join us at the Aster Mesa Down
 town Senior Center for a Golden Age Glamour Gala! \n\nNo date? No problem!
  We’ve got a dance\, a red carpet\, a Photo Booth\, and Golden Age costume
 s like boas\, pearls\, and feathers to make the event fun for everyone! \n
 \nWhere: Aster Mesa Downtown Senior Center - 247 N. Macdonald Street\, Mes
 a\, 85201\nCost: FREE to adults 60+\nWhen: Wednesday\, February 12\, 2025 
 \nTime: 1:00 - 4:00 pm\nRSVP by Feb. 7: info@asteraz.org or 480-964-9014
DTSTART;TZID=America/Denver:20250212T130000
DTEND;TZID=America/Denver:20250212T160000
LOCATION:247 N. Macdonald Street\, Mesa\, AZ 85201 US
SUMMARY:Aster 2025 Glamour Gala
END:VEVENT
END:VCALENDAR
