BEGIN:VCALENDAR
VERSION:2.0
PRODID:-//www.asteraz.org//NONSGML kigkonsult.se iCalcreator 2.30.10//
CALSCALE:GREGORIAN
METHOD:PUBLISH
UID:354fe571-0024-4d63-b32b-33300b313f34
X-WR-CALDESC:Learn to enhance your strength\, balance\, and spiritual healt
 h with this indoor Tai Chi class. The class for advanced practitioners beg
 ins at 8:30 am while beginner Tai Chi begins at 10:00 am. \n\nCost varies.
  Inquire directly to learn more.\n\nCapacity is limited - RSVP to secure y
 our spot.
X-WR-RELCALID:e3863c7e148096e07dac08a26677c85c
X-WR-TIMEZONE:America/Denver
BEGIN:VTIMEZONE
TZID:America/Denver
BEGIN:STANDARD
TZNAME:MST
DTSTART:20241103T020000
TZOFFSETFROM:-0600
TZOFFSETTO:-0700
RDATE:20251102T020000
END:STANDARD
BEGIN:DAYLIGHT
TZNAME:MDT
DTSTART:20240310T020000
TZOFFSETFROM:-0700
TZOFFSETTO:-0600
RDATE:20250309T020000
RDATE:20260308T020000
END:DAYLIGHT
END:VTIMEZONE
BEGIN:VEVENT
UID:caa22520-c3af-46db-bbca-28a2dc89394a
DTSTAMP:20260424T074331Z
DESCRIPTION:Learn to enhance your strength\, balance\, and spiritual health
  with this indoor Tai Chi class. The class for advanced practitioners begi
 ns at 8:30 am while beginner Tai Chi begins at 10:00 am. \n\nCost varies. 
 Inquire directly to learn more.\n\nCapacity is limited - RSVP to secure yo
 ur spot.
DTSTART;TZID=America/Denver:20250130T083000
DTEND;TZID=America/Denver:20250130T100000
LOCATION:Mesa Downtown Senior Center
SUMMARY:DT Tai Chi - Begin & Adv
END:VEVENT
END:VCALENDAR
