BEGIN:VCALENDAR
VERSION:2.0
PRODID:-//www.asteraz.org//NONSGML kigkonsult.se iCalcreator 2.30.10//
CALSCALE:GREGORIAN
METHOD:PUBLISH
UID:7426f3c5-1944-45a6-ae92-93d20aa9df52
X-WR-CALDESC:Get tech-savvy with AARP's Digital Skills classes! Learn the i
 ns and outs of technology with AARP's Digital Skills experts. The subject 
 of this class will be 'Online Rx Drug Resources'.
X-WR-RELCALID:b6c363579cd9ac6526a498631ecb7188
X-WR-TIMEZONE:America/Denver
BEGIN:VTIMEZONE
TZID:America/Denver
BEGIN:STANDARD
TZNAME:MST
DTSTART:20231105T020000
TZOFFSETFROM:-0600
TZOFFSETTO:-0700
RDATE:20241103T020000
RDATE:20251102T020000
END:STANDARD
BEGIN:DAYLIGHT
TZNAME:MDT
DTSTART:20240310T020000
TZOFFSETFROM:-0700
TZOFFSETTO:-0600
RDATE:20250309T020000
END:DAYLIGHT
END:VTIMEZONE
BEGIN:VEVENT
UID:c80384c3-04ac-4e3d-ab36-0b7219ce10f6
DTSTAMP:20260424T054705Z
DESCRIPTION:Get tech-savvy with AARP's Digital Skills classes! Learn the in
 s and outs of technology with AARP's Digital Skills experts. The subject o
 f this class will be 'Online Rx Drug Resources'.
DTSTART;TZID=America/Denver:20240827T100000
DTEND;TZID=America/Denver:20240827T110000
LOCATION:247 N. Macdonald Street\, Mesa\, AZ 85201 US
SUMMARY:AARP Digital Skills - Online Rx Drug Resources
END:VEVENT
END:VCALENDAR
