BEGIN:VCALENDAR
VERSION:2.0
PRODID:-//www.asteraz.org//NONSGML kigkonsult.se iCalcreator 2.30.10//
CALSCALE:GREGORIAN
METHOD:PUBLISH
UID:6cda7c4e-d2f1-492c-b714-7b1e87fc35ef
X-WR-CALDESC:Enjoy good company while crafting creative pieces.
X-WR-RELCALID:3abcef57d681f05274be6a4b75efd051
X-WR-TIMEZONE:America/Denver
BEGIN:VTIMEZONE
TZID:America/Denver
BEGIN:STANDARD
TZNAME:MST
DTSTART:20231105T020000
TZOFFSETFROM:-0600
TZOFFSETTO:-0700
RDATE:20241103T020000
END:STANDARD
BEGIN:DAYLIGHT
TZNAME:MDT
DTSTART:20240310T020000
TZOFFSETFROM:-0700
TZOFFSETTO:-0600
RDATE:20250309T020000
END:DAYLIGHT
END:VTIMEZONE
BEGIN:VEVENT
UID:d9fb122b-d12c-47a9-bf05-57dc15225c52
DTSTAMP:20260423T004016Z
DESCRIPTION:Enjoy good company while crafting creative pieces.
DTSTART;TZID=America/Denver:20240409T090000
DTEND;TZID=America/Denver:20240409T110000
LOCATION:Mesa Downtown Senior Center
SUMMARY:DT Stitch & Chat
END:VEVENT
END:VCALENDAR
