BEGIN:VCALENDAR
VERSION:2.0
PRODID:-//www.asteraz.org//NONSGML kigkonsult.se iCalcreator 2.30.10//
CALSCALE:GREGORIAN
METHOD:PUBLISH
UID:dcc7af8b-121f-4449-a9d8-2cb5889661ad
X-WR-CALDESC:Get your day moving in the right direction with some exercise!
  This event is free to attend but does require pre-registration and has li
 mited capacity.
X-WR-RELCALID:611009c3cdf40650cf62126cf74c2ee9
X-WR-TIMEZONE:America/Denver
BEGIN:VTIMEZONE
TZID:America/Denver
BEGIN:STANDARD
TZNAME:MST
DTSTART:20231105T020000
TZOFFSETFROM:-0600
TZOFFSETTO:-0700
RDATE:20241103T020000
END:STANDARD
BEGIN:DAYLIGHT
TZNAME:MDT
DTSTART:20230312T020000
TZOFFSETFROM:-0700
TZOFFSETTO:-0600
RDATE:20240310T020000
RDATE:20250309T020000
END:DAYLIGHT
END:VTIMEZONE
BEGIN:VEVENT
UID:66630316-bc4a-4328-8b40-a36784decf34
DTSTAMP:20260425T171224Z
DESCRIPTION:Get your day moving in the right direction with some exercise! 
 This event is free to attend but does require pre-registration and has lim
 ited capacity.
DTSTART;TZID=America/Denver:20231115T081500
DTEND;TZID=America/Denver:20231115T090000
LOCATION:Red Mountain Senior Center
SUMMARY:RM Morning Movement
END:VEVENT
END:VCALENDAR
