BEGIN:VCALENDAR
VERSION:2.0
PRODID:-//www.asteraz.org//NONSGML kigkonsult.se iCalcreator 2.30.10//
CALSCALE:GREGORIAN
METHOD:PUBLISH
UID:1e6ade83-c621-49c7-b1d9-fbe401489b4c
X-WR-CALDESC:Bring poetry you wrote\, that inspires you\, and that you'd wa
 nt to share and discuss.\n\nFacilitated by Jim Ferguson
X-WR-RELCALID:d6282acfe106da583bd2d89bf46dcbae
X-WR-TIMEZONE:America/Denver
BEGIN:VTIMEZONE
TZID:America/Denver
BEGIN:STANDARD
TZNAME:MST
DTSTART:20221106T020000
TZOFFSETFROM:-0600
TZOFFSETTO:-0700
RDATE:20231105T020000
END:STANDARD
BEGIN:DAYLIGHT
TZNAME:MDT
DTSTART:20230312T020000
TZOFFSETFROM:-0700
TZOFFSETTO:-0600
RDATE:20240310T020000
END:DAYLIGHT
END:VTIMEZONE
BEGIN:VEVENT
UID:a19fa924-4831-460f-8fbd-6854c05f8a25
DTSTAMP:20260424T015500Z
DESCRIPTION:Bring poetry you wrote\, that inspires you\, and that you'd wan
 t to share and discuss.\n\nFacilitated by Jim Ferguson
DTSTART;TZID=America/Denver:20230314T130000
DTEND;TZID=America/Denver:20230314T143000
LOCATION:Mesa Downtown Senior Center
SUMMARY:DT The Art of Poetry
END:VEVENT
END:VCALENDAR
