BEGIN:VCALENDAR
VERSION:2.0
PRODID:-//www.asteraz.org//NONSGML kigkonsult.se iCalcreator 2.30.10//
CALSCALE:GREGORIAN
METHOD:PUBLISH
UID:9204263f-7ab1-403c-816f-3433ceefd5a5
X-WR-CALDESC:Join us in-person for the Bookshelf Book Club. This sessions' 
 book is: “Letters for Emily' by Cameron Wright. The club is free to attend
 \, however capacity is limited. \n\nFacilitated by Mesa Community College 
 New Frontiers Class.
X-WR-RELCALID:8e65b37710f238feae09eadf9dc26b73
X-WR-TIMEZONE:America/Denver
BEGIN:VTIMEZONE
TZID:America/Denver
BEGIN:STANDARD
TZNAME:MST
DTSTART:20221106T020000
TZOFFSETFROM:-0600
TZOFFSETTO:-0700
RDATE:20231105T020000
END:STANDARD
BEGIN:DAYLIGHT
TZNAME:MDT
DTSTART:20220313T020000
TZOFFSETFROM:-0700
TZOFFSETTO:-0600
RDATE:20230312T020000
RDATE:20240310T020000
END:DAYLIGHT
END:VTIMEZONE
BEGIN:VEVENT
UID:7f7da476-233b-4abc-b747-572af676791a
DTSTAMP:20260424T230324Z
DESCRIPTION:Join us in-person for the Bookshelf Book Club. This sessions' b
 ook is: “Letters for Emily' by Cameron Wright. The club is free to attend\
 , however capacity is limited. \n\nFacilitated by Mesa Community College N
 ew Frontiers Class.
DTSTART;TZID=America/Denver:20221130T100000
DTEND;TZID=America/Denver:20221130T110000
LOCATION:Mesa Downtown Senior Center
SUMMARY:DT Bookshelf & Mystery Club
END:VEVENT
END:VCALENDAR
