BEGIN:VCALENDAR
VERSION:2.0
PRODID:-//www.asteraz.org//NONSGML kigkonsult.se iCalcreator 2.30.10//
CALSCALE:GREGORIAN
METHOD:PUBLISH
UID:40f5c1ad-57f7-4434-a01e-a4c9aed9f0ba
X-WR-CALDESC:Are you a veteran? If so\, join Aster staff and your fellow Ve
 terans for a casual indoor chat. Enjoy some fresh donuts and hot coffee am
 ongst good company. Capacity is limited.
X-WR-RELCALID:7c582a9be2b247544493ece12780af95
X-WR-TIMEZONE:America/Denver
BEGIN:VTIMEZONE
TZID:America/Denver
BEGIN:STANDARD
TZNAME:MST
DTSTART:20211107T020000
TZOFFSETFROM:-0600
TZOFFSETTO:-0700
RDATE:20221106T020000
RDATE:20231105T020000
END:STANDARD
BEGIN:DAYLIGHT
TZNAME:MDT
DTSTART:20220313T020000
TZOFFSETFROM:-0700
TZOFFSETTO:-0600
RDATE:20230312T020000
END:DAYLIGHT
END:VTIMEZONE
BEGIN:VEVENT
UID:f4a51b28-756e-429e-894d-99a924bb9744
DTSTAMP:20260425T204230Z
DESCRIPTION:Are you a veteran? If so\, join Aster staff and your fellow Vet
 erans for a casual indoor chat. Enjoy some fresh donuts and hot coffee amo
 ngst good company. Capacity is limited.
DTSTART;TZID=America/Denver:20220620T083000
DTEND;TZID=America/Denver:20220620T093000
LOCATION:Mesa Downtown Senior Center
SUMMARY:DT Veteran's Social
END:VEVENT
END:VCALENDAR
