BEGIN:VCALENDAR
VERSION:2.0
PRODID:-//www.asteraz.org//NONSGML kigkonsult.se iCalcreator 2.30.10//
CALSCALE:GREGORIAN
METHOD:PUBLISH
UID:6ca5e1ca-e23b-4bae-8887-4733763e3fe2
X-WR-CALDESC:Enjoy a delicious lunch and cake as we celebrate our Center pa
 rticipants whom have April birthdays. Capacity is limited.
X-WR-RELCALID:a96155218dc97179af41b0d2893b4211
X-WR-TIMEZONE:America/Denver
BEGIN:VTIMEZONE
TZID:America/Denver
BEGIN:STANDARD
TZNAME:MST
DTSTART:20211107T020000
TZOFFSETFROM:-0600
TZOFFSETTO:-0700
RDATE:20221106T020000
RDATE:20231105T020000
END:STANDARD
BEGIN:DAYLIGHT
TZNAME:MDT
DTSTART:20220313T020000
TZOFFSETFROM:-0700
TZOFFSETTO:-0600
RDATE:20230312T020000
END:DAYLIGHT
END:VTIMEZONE
BEGIN:VEVENT
UID:e743a67e-12b9-4ea9-89b0-e015aab2bc56
DTSTAMP:20260422T094850Z
DESCRIPTION:Enjoy a delicious lunch and cake as we celebrate our Center par
 ticipants whom have April birthdays. Capacity is limited.
DTSTART;TZID=America/Denver:20220527T113000
DTEND;TZID=America/Denver:20220527T130000
LOCATION:Mesa Downtown Senior Center
SUMMARY:DT Birthday Party
END:VEVENT
END:VCALENDAR
