BEGIN:VCALENDAR
VERSION:2.0
PRODID:-//www.asteraz.org//NONSGML kigkonsult.se iCalcreator 2.30.10//
CALSCALE:GREGORIAN
METHOD:PUBLISH
UID:f4ddfa55-0648-4398-934e-623ff2726009
X-WR-CALDESC:Learn to enhance your strength\, balance\, and spiritual healt
 h with this indoor class for Tai Chi beginners.  Capacity is limited\, so 
 sign-up today! \n\nThis activity has a monthly cost of $23 (for once a wee
 k class) or $35 (for twice a week class).
X-WR-RELCALID:f936bb456260abbbf36d4d147420b34a
X-WR-TIMEZONE:America/Denver
BEGIN:VTIMEZONE
TZID:America/Denver
BEGIN:STANDARD
TZNAME:MST
DTSTART:20211107T020000
TZOFFSETFROM:-0600
TZOFFSETTO:-0700
RDATE:20221106T020000
RDATE:20231105T020000
END:STANDARD
BEGIN:DAYLIGHT
TZNAME:MDT
DTSTART:20220313T020000
TZOFFSETFROM:-0700
TZOFFSETTO:-0600
RDATE:20230312T020000
END:DAYLIGHT
END:VTIMEZONE
BEGIN:VEVENT
UID:f9869dcc-9f7e-4e0c-adf1-adf4b18ccd10
DTSTAMP:20260425T174332Z
DESCRIPTION:Learn to enhance your strength\, balance\, and spiritual health
  with this indoor class for Tai Chi beginners.  Capacity is limited\, so s
 ign-up today! \n\nThis activity has a monthly cost of $23 (for once a week
  class) or $35 (for twice a week class).
DTSTART;TZID=America/Denver:20220519T100000
DTEND;TZID=America/Denver:20220519T113000
LOCATION:Mesa Downtown Senior Center
SUMMARY:DT Tai Chi - Beginners
END:VEVENT
END:VCALENDAR
