BEGIN:VCALENDAR
VERSION:2.0
PRODID:-//www.asteraz.org//NONSGML kigkonsult.se iCalcreator 2.30.10//
CALSCALE:GREGORIAN
METHOD:PUBLISH
UID:9d0e6c28-5fc6-46ad-adf6-5d308ebd9a0d
X-WR-CALDESC:Get your day moving in the right direction with some exercise!
   This event is free to attend but does require pre-registration and has l
 imited capacity.
X-WR-RELCALID:14d2ed529597edbbd65a4851b6525a7f
X-WR-TIMEZONE:America/Denver
BEGIN:VTIMEZONE
TZID:America/Denver
BEGIN:STANDARD
TZNAME:MST
DTSTART:20211107T020000
TZOFFSETFROM:-0600
TZOFFSETTO:-0700
RDATE:20221106T020000
RDATE:20231105T020000
END:STANDARD
BEGIN:DAYLIGHT
TZNAME:MDT
DTSTART:20220313T020000
TZOFFSETFROM:-0700
TZOFFSETTO:-0600
RDATE:20230312T020000
END:DAYLIGHT
END:VTIMEZONE
BEGIN:VEVENT
UID:8a89c17a-c402-4277-b253-259ccddb6534
DTSTAMP:20260423T051633Z
DESCRIPTION:Get your day moving in the right direction with some exercise! 
  This event is free to attend but does require pre-registration and has li
 mited capacity.
DTSTART;TZID=America/Denver:20220513T081500
DTEND;TZID=America/Denver:20220513T090000
LOCATION:Red Mountain Senior Center
SUMMARY:RM Morning Movement
END:VEVENT
END:VCALENDAR
